BEGIN:VCALENDAR
VERSION:2.0
PRODID:-//ChooseMaths Awards - ECPv4.6.18//NONSGML v1.0//EN
CALSCALE:GREGORIAN
METHOD:PUBLISH
X-WR-CALNAME:ChooseMaths Awards
X-ORIGINAL-URL:https://choosemathsawards.org.au
X-WR-CALDESC:Events for ChooseMaths Awards
BEGIN:VEVENT
DTSTART;VALUE=DATE:20190909
DTEND;VALUE=DATE:20190910
DTSTAMP:20210227T120016
CREATED:20180301T052243Z
LAST-MODIFIED:20181203T054817Z
UID:398-1567987200-1568073599@choosemathsawards.org.au
SUMMARY:ChooseMaths Teacher Award winners announced this week.
DESCRIPTION:ChooseMaths Teacher Award winners announced this week.\n*Note that major winners will be announced at the Choose Maths awards ceremony on 18th October 2019 \n
URL:https://choosemathsawards.org.au/event/2018-awardees-announced/
CATEGORIES:teacher_awards
END:VEVENT
END:VCALENDAR