BEGIN:VCALENDAR
VERSION:2.0
PRODID:-//ChooseMaths Awards - ECPv4.6.18//NONSGML v1.0//EN
CALSCALE:GREGORIAN
METHOD:PUBLISH
X-WR-CALNAME:ChooseMaths Awards
X-ORIGINAL-URL:https://choosemathsawards.org.au
X-WR-CALDESC:Events for ChooseMaths Awards
BEGIN:VEVENT
DTSTART;VALUE=DATE:20191017
DTEND;VALUE=DATE:20191018
DTSTAMP:20210227T120041
CREATED:20180211T183553Z
LAST-MODIFIED:20181203T055207Z
UID:141-1571270400-1571356799@choosemathsawards.org.au
SUMMARY:Teacher awardee dinner hosted in Melbourne
DESCRIPTION:Teacher awardee dinner hosted in Melbourne \n
URL:https://choosemathsawards.org.au/event/addition-awards-ceremony/
CATEGORIES:teacher_awards
END:VEVENT
END:VCALENDAR