BEGIN:VCALENDAR
VERSION:2.0
PRODID:-//ChooseMaths Awards - ECPv4.6.18//NONSGML v1.0//EN
CALSCALE:GREGORIAN
METHOD:PUBLISH
X-WR-CALNAME:ChooseMaths Awards
X-ORIGINAL-URL:https://choosemathsawards.org.au
X-WR-CALDESC:Events for ChooseMaths Awards
BEGIN:VEVENT
DTSTART;VALUE=DATE:20191018
DTEND;VALUE=DATE:20191019
DTSTAMP:20210226T175347
CREATED:20180211T183647Z
LAST-MODIFIED:20181204T023910Z
UID:143-1571356800-1571443199@choosemathsawards.org.au
SUMMARY:Choose Maths Awards Ceremony
DESCRIPTION:Choose Maths Awards Ceremony \n
URL:https://choosemathsawards.org.au/event/choose-maths-awards-ceremony/
CATEGORIES:student_awards,teacher_awards
END:VEVENT
END:VCALENDAR