BEGIN:VCALENDAR
VERSION:2.0
PRODID:-//ChooseMaths Awards - ECPv4.6.18//NONSGML v1.0//EN
CALSCALE:GREGORIAN
METHOD:PUBLISH
X-WR-CALNAME:ChooseMaths Awards
X-ORIGINAL-URL:https://choosemathsawards.org.au
X-WR-CALDESC:Events for ChooseMaths Awards
BEGIN:VEVENT
DTSTART;VALUE=DATE:20190816
DTEND;VALUE=DATE:20190817
DTSTAMP:20210222T215339
CREATED:20180211T183148Z
LAST-MODIFIED:20181203T052854Z
UID:131-1565913600-1565999999@choosemathsawards.org.au
SUMMARY:Nominations close
DESCRIPTION:Nominations close \n
URL:https://choosemathsawards.org.au/event/nominations-close/
CATEGORIES:teacher_awards
END:VEVENT
END:VCALENDAR