BEGIN:VCALENDAR
VERSION:2.0
PRODID:-//ChooseMaths Awards - ECPv4.6.18//NONSGML v1.0//EN
CALSCALE:GREGORIAN
METHOD:PUBLISH
X-WR-CALNAME:ChooseMaths Awards
X-ORIGINAL-URL:https://choosemathsawards.org.au
X-WR-CALDESC:Events for ChooseMaths Awards
BEGIN:VEVENT
DTSTART;VALUE=DATE:20190807
DTEND;VALUE=DATE:20190808
DTSTAMP:20210226T061930
CREATED:20180211T183327Z
LAST-MODIFIED:20181204T023742Z
UID:135-1565136000-1565222399@choosemathsawards.org.au
SUMMARY:Student video portal opens
DESCRIPTION:Student video portal opens \n
URL:https://choosemathsawards.org.au/event/video-portal-will-open/
CATEGORIES:student_awards
END:VEVENT
END:VCALENDAR