BEGIN:VCALENDAR
VERSION:2.0
PRODID:-//ChooseMaths Awards - ECPv4.6.18//NONSGML v1.0//EN
CALSCALE:GREGORIAN
METHOD:PUBLISH
X-WR-CALNAME:ChooseMaths Awards
X-ORIGINAL-URL:https://choosemathsawards.org.au
X-WR-CALDESC:Events for ChooseMaths Awards
BEGIN:VEVENT
DTSTART;VALUE=DATE:20190301
DTEND;VALUE=DATE:20190302
DTSTAMP:20190301T105755
CREATED:20180211T183059Z
LAST-MODIFIED:20181203T052704Z
UID:129-1551398400-1551484799@choosemathsawards.org.au
SUMMARY:Nominations open
DESCRIPTION:Nominations open \n
URL:https://choosemathsawards.org.au/event/nominations-open/
CATEGORIES:teacher_awards
END:VEVENT
END:VCALENDAR